Package: CNORfeeder Version: 1.47.0 Command: /Library/Frameworks/R.framework/Resources/bin/R CMD check --install=check:CNORfeeder.install-out.txt --library=/Library/Frameworks/R.framework/Resources/library --no-vignettes --timings CNORfeeder_1.47.0.tar.gz StartedAt: 2025-02-12 18:36:51 -0500 (Wed, 12 Feb 2025) EndedAt: 2025-02-12 18:37:18 -0500 (Wed, 12 Feb 2025) EllapsedTime: 27.3 seconds RetCode: 1 Status: ERROR CheckDir: CNORfeeder.Rcheck Warnings: NA