Package: CNORfeeder Version: 1.47.0 Command: rm -rf CNORfeeder.buildbin-libdir && mkdir CNORfeeder.buildbin-libdir && /Users/biocbuild/BBS/utils/build-universal.sh CNORfeeder_1.47.0.tar.gz /Library/Frameworks/R.framework/Resources/bin/R CNORfeeder.buildbin-libdir StartedAt: 2025-02-10 00:47:19 -0500 (Mon, 10 Feb 2025) EndedAt: 2025-02-10 00:47:34 -0500 (Mon, 10 Feb 2025) EllapsedTime: 15.0 seconds RetCode: 0 Status: OK PackageFile: CNORfeeder_1.47.0.tgz PackageFileSize: 2.099 MiB