Package: CNORfeeder Version: 1.47.0 Command: /home/biocbuild/bbs-3.21-bioc/R/bin/R CMD build --keep-empty-dirs --no-resave-data CNORfeeder StartedAt: 2025-02-09 16:42:34 -0500 (Sun, 09 Feb 2025) EndedAt: 2025-02-09 16:42:48 -0500 (Sun, 09 Feb 2025) EllapsedTime: 14.0 seconds RetCode: 0 Status: OK PackageFile: CNORfeeder_1.47.0.tar.gz PackageFileSize: 3.435 MiB