Package: CNORfeeder Version: 1.47.0 Command: /home/biocbuild/bbs-3.21-bioc/R/bin/R CMD check --install=check:CNORfeeder.install-out.txt --library=/home/biocbuild/bbs-3.21-bioc/R/site-library --timings CNORfeeder_1.47.0.tar.gz StartedAt: 2025-02-12 21:00:37 -0500 (Wed, 12 Feb 2025) EndedAt: 2025-02-12 21:01:40 -0500 (Wed, 12 Feb 2025) EllapsedTime: 63.1 seconds RetCode: 1 Status: ERROR CheckDir: CNORfeeder.Rcheck Warnings: NA