Package: CNORfeeder Version: 1.47.0 Command: E:\biocbuild\bbs-3.21-bioc\R\bin\R.exe CMD check --no-multiarch --install=check:CNORfeeder.install-out.txt --library=E:\biocbuild\bbs-3.21-bioc\R\library --no-vignettes --timings CNORfeeder_1.47.0.tar.gz StartedAt: 2025-02-09 23:47:17 -0500 (Sun, 09 Feb 2025) EndedAt: 2025-02-09 23:48:42 -0500 (Sun, 09 Feb 2025) EllapsedTime: 84.1 seconds RetCode: 1 Status: ERROR CheckDir: CNORfeeder.Rcheck Warnings: NA