Package: CNORode Version: 1.49.0 Command: /Library/Frameworks/R.framework/Resources/bin/R CMD build --keep-empty-dirs --no-resave-data CNORode StartedAt: 2025-02-09 15:56:13 -0500 (Sun, 09 Feb 2025) EndedAt: 2025-02-09 15:56:25 -0500 (Sun, 09 Feb 2025) EllapsedTime: 12.1 seconds RetCode: 0 Status: OK PackageFile: CNORode_1.49.0.tar.gz PackageFileSize: 516.3 KiB