Package: CNORode Version: 1.49.0 Command: /Library/Frameworks/R.framework/Resources/bin/R CMD check --install=check:CNORode.install-out.txt --library=/Library/Frameworks/R.framework/Resources/library --no-vignettes --timings CNORode_1.49.0.tar.gz StartedAt: 2025-02-03 19:12:22 -0500 (Mon, 03 Feb 2025) EndedAt: 2025-02-03 19:12:50 -0500 (Mon, 03 Feb 2025) EllapsedTime: 27.4 seconds RetCode: 0 Status: WARNINGS CheckDir: CNORode.Rcheck Warnings: 2