Package: CNORode Version: 1.49.0 Command: /Library/Frameworks/R.framework/Resources/bin/R CMD INSTALL CNORode StartedAt: 2025-02-03 15:50:03 -0500 (Mon, 03 Feb 2025) EndedAt: 2025-02-03 15:50:10 -0500 (Mon, 03 Feb 2025) EllapsedTime: 6.9 seconds RetCode: 0 Status: OK