Package: CNORode Version: 1.49.0 Command: /home/biocbuild/R/R/bin/R CMD build --keep-empty-dirs --no-resave-data CNORode StartedAt: 2025-01-28 21:59:19 -0000 (Tue, 28 Jan 2025) EndedAt: 2025-01-28 22:00:04 -0000 (Tue, 28 Jan 2025) EllapsedTime: 45.0 seconds RetCode: 0 Status: OK PackageFile: CNORode_1.49.0.tar.gz PackageFileSize: 407.8 KiB