Package: CNORode Version: 1.49.0 Command: /home/biocbuild/R/R/bin/R CMD INSTALL CNORode StartedAt: 2025-01-29 20:05:30 -0000 (Wed, 29 Jan 2025) EndedAt: 2025-01-29 20:05:53 -0000 (Wed, 29 Jan 2025) EllapsedTime: 23.2 seconds RetCode: 0 Status: OK