Package: CNORode Version: 1.49.0 Command: rm -rf CNORode.buildbin-libdir && mkdir CNORode.buildbin-libdir && /Users/biocbuild/BBS/utils/build-universal.sh CNORode_1.49.0.tar.gz /Library/Frameworks/R.framework/Resources/bin/R CNORode.buildbin-libdir StartedAt: 2025-02-05 00:33:49 -0500 (Wed, 05 Feb 2025) EndedAt: 2025-02-05 00:34:18 -0500 (Wed, 05 Feb 2025) EllapsedTime: 28.8 seconds RetCode: 0 Status: OK PackageFile: CNORode_1.49.0.tgz PackageFileSize: 456.7 KiB