Package: CNORode Version: 1.49.0 Command: /Library/Frameworks/R.framework/Resources/bin/R CMD build --keep-empty-dirs --no-resave-data CNORode StartedAt: 2025-02-09 16:19:47 -0500 (Sun, 09 Feb 2025) EndedAt: 2025-02-09 16:20:27 -0500 (Sun, 09 Feb 2025) EllapsedTime: 40.1 seconds RetCode: 0 Status: OK PackageFile: CNORode_1.49.0.tar.gz PackageFileSize: 517 KiB