Package: CNORode Version: 1.49.0 Command: /Library/Frameworks/R.framework/Resources/bin/R CMD INSTALL CNORode StartedAt: 2025-02-09 15:24:50 -0500 (Sun, 09 Feb 2025) EndedAt: 2025-02-09 15:25:16 -0500 (Sun, 09 Feb 2025) EllapsedTime: 26.3 seconds RetCode: 0 Status: OK