Package: CNORode Version: 1.49.0 Command: /home/biocbuild/bbs-3.21-bioc/R/bin/R CMD build --keep-empty-dirs --no-resave-data CNORode StartedAt: 2025-02-04 16:40:20 -0500 (Tue, 04 Feb 2025) EndedAt: 2025-02-04 16:40:50 -0500 (Tue, 04 Feb 2025) EllapsedTime: 30.0 seconds RetCode: 0 Status: OK PackageFile: CNORode_1.49.0.tar.gz PackageFileSize: 486.4 KiB