Package: CNORode Version: 1.49.0 Command: /home/biocbuild/bbs-3.21-bioc/R/bin/R CMD check --install=check:CNORode.install-out.txt --library=/home/biocbuild/bbs-3.21-bioc/R/site-library --timings CNORode_1.49.0.tar.gz StartedAt: 2025-02-04 21:01:40 -0500 (Tue, 04 Feb 2025) EndedAt: 2025-02-04 21:02:54 -0500 (Tue, 04 Feb 2025) EllapsedTime: 74.1 seconds RetCode: 0 Status: WARNINGS CheckDir: CNORode.Rcheck Warnings: 2