Package: CNORode Version: 1.49.0 Command: /home/biocbuild/bbs-3.21-bioc/R/bin/R CMD INSTALL CNORode StartedAt: 2025-02-04 15:35:13 -0500 (Tue, 04 Feb 2025) EndedAt: 2025-02-04 15:35:29 -0500 (Tue, 04 Feb 2025) EllapsedTime: 15.7 seconds RetCode: 0 Status: OK