Package: CNORode Version: 1.49.0 Command: rm -rf CNORode.buildbin-libdir && mkdir CNORode.buildbin-libdir && E:\biocbuild\bbs-3.21-bioc\R\bin\R.exe CMD INSTALL --build --library=CNORode.buildbin-libdir CNORode_1.49.0.tar.gz StartedAt: 2025-02-10 07:29:26 -0500 (Mon, 10 Feb 2025) EndedAt: 2025-02-10 07:30:06 -0500 (Mon, 10 Feb 2025) EllapsedTime: 39.5 seconds RetCode: 0 Status: OK PackageFile: CNORode_1.49.0.zip PackageFileSize: 305 KiB