Package: CNORode Version: 1.49.0 Command: E:\biocbuild\bbs-3.21-bioc\R\bin\R.exe CMD check --no-multiarch --install=check:CNORode.install-out.txt --library=E:\biocbuild\bbs-3.21-bioc\R\library --no-vignettes --timings CNORode_1.49.0.tar.gz StartedAt: 2025-02-09 23:47:19 -0500 (Sun, 09 Feb 2025) EndedAt: 2025-02-09 23:48:49 -0500 (Sun, 09 Feb 2025) EllapsedTime: 90.3 seconds RetCode: 0 Status: WARNINGS CheckDir: CNORode.Rcheck Warnings: 1