Package: CNORode Version: 1.49.0 Command: E:\biocbuild\bbs-3.21-bioc\R\bin\R.exe CMD INSTALL CNORode StartedAt: 2025-02-09 15:48:22 -0500 (Sun, 09 Feb 2025) EndedAt: 2025-02-09 15:49:11 -0500 (Sun, 09 Feb 2025) EllapsedTime: 48.7 seconds RetCode: 0 Status: OK