Package: CNTools Version: 1.63.0 Command: rm -rf CNTools.buildbin-libdir && mkdir CNTools.buildbin-libdir && /Users/biocbuild/BBS/utils/build-universal.sh CNTools_1.63.0.tar.gz /Library/Frameworks/R.framework/Resources/bin/R CNTools.buildbin-libdir StartedAt: 2025-02-09 22:09:55 -0500 (Sun, 09 Feb 2025) EndedAt: 2025-02-09 22:10:04 -0500 (Sun, 09 Feb 2025) EllapsedTime: 9.2 seconds RetCode: 0 Status: OK PackageFile: CNTools_1.63.0.tgz PackageFileSize: 1.189 MiB