Package: CNTools Version: 1.63.0 Command: /Library/Frameworks/R.framework/Resources/bin/R CMD INSTALL CNTools StartedAt: 2025-02-09 15:19:50 -0500 (Sun, 09 Feb 2025) EndedAt: 2025-02-09 15:19:58 -0500 (Sun, 09 Feb 2025) EllapsedTime: 7.6 seconds RetCode: 0 Status: OK