Package: CNTools Version: 1.63.0 Command: /home/biocbuild/R/R/bin/R CMD build --keep-empty-dirs --no-resave-data CNTools StartedAt: 2025-01-28 21:59:22 -0000 (Tue, 28 Jan 2025) EndedAt: 2025-01-28 21:59:59 -0000 (Tue, 28 Jan 2025) EllapsedTime: 37.0 seconds RetCode: 0 Status: OK PackageFile: CNTools_1.63.0.tar.gz PackageFileSize: 954.5 KiB