Package: CNTools Version: 1.63.0 Command: /home/biocbuild/R/R/bin/R CMD check --install=check:CNTools.install-out.txt --library=/home/biocbuild/R/R/site-library --no-vignettes --timings CNTools_1.63.0.tar.gz StartedAt: 2025-01-28 09:19:18 -0000 (Tue, 28 Jan 2025) EndedAt: 2025-01-28 09:21:59 -0000 (Tue, 28 Jan 2025) EllapsedTime: 161.2 seconds RetCode: 0 Status: OK CheckDir: CNTools.Rcheck Warnings: 0