Package: CNTools Version: 1.63.0 Command: /Library/Frameworks/R.framework/Resources/bin/R CMD check --install=check:CNTools.install-out.txt --library=/Library/Frameworks/R.framework/Resources/library --no-vignettes --timings CNTools_1.63.0.tar.gz StartedAt: 2025-02-09 19:51:15 -0500 (Sun, 09 Feb 2025) EndedAt: 2025-02-09 19:53:45 -0500 (Sun, 09 Feb 2025) EllapsedTime: 149.5 seconds RetCode: 0 Status: OK CheckDir: CNTools.Rcheck Warnings: 0