Package: CNTools Version: 1.63.0 Command: /Library/Frameworks/R.framework/Resources/bin/R CMD INSTALL CNTools StartedAt: 2025-02-12 15:31:42 -0500 (Wed, 12 Feb 2025) EndedAt: 2025-02-12 15:32:08 -0500 (Wed, 12 Feb 2025) EllapsedTime: 25.8 seconds RetCode: 0 Status: OK