Package: CNTools Version: 1.63.0 Command: /home/biocbuild/bbs-3.21-bioc/R/bin/R CMD check --install=check:CNTools.install-out.txt --library=/home/biocbuild/bbs-3.21-bioc/R/site-library --timings CNTools_1.63.0.tar.gz StartedAt: 2025-02-09 21:04:02 -0500 (Sun, 09 Feb 2025) EndedAt: 2025-02-09 21:06:14 -0500 (Sun, 09 Feb 2025) EllapsedTime: 132.3 seconds RetCode: 0 Status: OK CheckDir: CNTools.Rcheck Warnings: 0