Package: CNTools Version: 1.63.0 Command: /home/biocbuild/bbs-3.21-bioc/R/bin/R CMD INSTALL CNTools StartedAt: 2025-02-04 15:26:07 -0500 (Tue, 04 Feb 2025) EndedAt: 2025-02-04 15:26:26 -0500 (Tue, 04 Feb 2025) EllapsedTime: 18.7 seconds RetCode: 0 Status: OK