Package: CNTools Version: 1.63.0 Command: rm -rf CNTools.buildbin-libdir && mkdir CNTools.buildbin-libdir && E:\biocbuild\bbs-3.21-bioc\R\bin\R.exe CMD INSTALL --build --library=CNTools.buildbin-libdir CNTools_1.63.0.tar.gz StartedAt: 2025-02-10 07:29:28 -0500 (Mon, 10 Feb 2025) EndedAt: 2025-02-10 07:30:04 -0500 (Mon, 10 Feb 2025) EllapsedTime: 35.7 seconds RetCode: 0 Status: OK PackageFile: CNTools_1.63.0.zip PackageFileSize: 1.106 MiB