Package: CNTools Version: 1.63.0 Command: E:\biocbuild\bbs-3.21-bioc\R\bin\R.exe CMD INSTALL CNTools StartedAt: 2025-02-04 16:27:59 -0500 (Tue, 04 Feb 2025) EndedAt: 2025-02-04 16:28:34 -0500 (Tue, 04 Feb 2025) EllapsedTime: 35.4 seconds RetCode: 0 Status: OK