Package: CNVPanelizer Version: 1.39.0 Maintainer: Thomas Wolf MaintainerEmail: thomas_wolf71 at gmx.de git_url: https://git.bioconductor.org/packages/CNVPanelizer git_branch: devel git_last_commit: 4aac16f git_last_commit_date: 2024-10-29 10:02:11 -0500 (Tue, 29 Oct 2024)