Package: CNVPanelizer Version: 1.39.0 Command: rm -rf CNVPanelizer.buildbin-libdir && mkdir CNVPanelizer.buildbin-libdir && /Users/biocbuild/BBS/utils/build-universal.sh CNVPanelizer_1.39.0.tar.gz /Library/Frameworks/R.framework/Resources/bin/R CNVPanelizer.buildbin-libdir StartedAt: 2025-02-09 22:09:57 -0500 (Sun, 09 Feb 2025) EndedAt: 2025-02-09 22:10:06 -0500 (Sun, 09 Feb 2025) EllapsedTime: 9.2 seconds RetCode: 0 Status: OK PackageFile: CNVPanelizer_1.39.0.tgz PackageFileSize: 471.9 KiB