Package: CNVPanelizer Version: 1.39.0 Command: /Library/Frameworks/R.framework/Resources/bin/R CMD build --keep-empty-dirs --no-resave-data CNVPanelizer StartedAt: 2025-02-09 15:56:25 -0500 (Sun, 09 Feb 2025) EndedAt: 2025-02-09 15:56:55 -0500 (Sun, 09 Feb 2025) EllapsedTime: 29.3 seconds RetCode: 0 Status: OK PackageFile: CNVPanelizer_1.39.0.tar.gz PackageFileSize: 363.1 KiB