Package: CNVPanelizer Version: 1.39.0 Command: /Library/Frameworks/R.framework/Resources/bin/R CMD INSTALL CNVPanelizer StartedAt: 2025-02-09 15:27:13 -0500 (Sun, 09 Feb 2025) EndedAt: 2025-02-09 15:27:22 -0500 (Sun, 09 Feb 2025) EllapsedTime: 8.2 seconds RetCode: 0 Status: OK