Package: CNVPanelizer Version: 1.39.0 Command: /home/biocbuild/R/R/bin/R CMD INSTALL CNVPanelizer StartedAt: 2025-01-29 20:32:10 -0000 (Wed, 29 Jan 2025) EndedAt: 2025-01-29 20:32:38 -0000 (Wed, 29 Jan 2025) EllapsedTime: 28.0 seconds RetCode: 0 Status: OK