Package: CNVPanelizer Version: 1.39.0 Command: /Library/Frameworks/R.framework/Resources/bin/R CMD check --install=check:CNVPanelizer.install-out.txt --library=/Library/Frameworks/R.framework/Resources/library --no-vignettes --timings CNVPanelizer_1.39.0.tar.gz StartedAt: 2025-02-09 19:51:36 -0500 (Sun, 09 Feb 2025) EndedAt: 2025-02-09 19:54:58 -0500 (Sun, 09 Feb 2025) EllapsedTime: 202.0 seconds RetCode: 0 Status: OK CheckDir: CNVPanelizer.Rcheck Warnings: 0