Package: CNVPanelizer Version: 1.39.0 Command: /home/biocbuild/bbs-3.21-bioc/R/bin/R CMD build --keep-empty-dirs --no-resave-data CNVPanelizer StartedAt: 2025-02-03 16:51:38 -0500 (Mon, 03 Feb 2025) EndedAt: 2025-02-03 16:52:55 -0500 (Mon, 03 Feb 2025) EllapsedTime: 77.1 seconds RetCode: 0 Status: OK PackageFile: CNVPanelizer_1.39.0.tar.gz PackageFileSize: 363 KiB