Package: CNVPanelizer Version: 1.39.0 Command: /home/biocbuild/bbs-3.21-bioc/R/bin/R CMD check --install=check:CNVPanelizer.install-out.txt --library=/home/biocbuild/bbs-3.21-bioc/R/site-library --timings CNVPanelizer_1.39.0.tar.gz StartedAt: 2025-02-09 21:04:22 -0500 (Sun, 09 Feb 2025) EndedAt: 2025-02-09 21:08:09 -0500 (Sun, 09 Feb 2025) EllapsedTime: 227.4 seconds RetCode: 0 Status: OK CheckDir: CNVPanelizer.Rcheck Warnings: 0