Package: CNVPanelizer Version: 1.39.0 Command: /home/biocbuild/bbs-3.21-bioc/R/bin/R CMD INSTALL CNVPanelizer StartedAt: 2025-02-03 15:24:55 -0500 (Mon, 03 Feb 2025) EndedAt: 2025-02-03 15:25:15 -0500 (Mon, 03 Feb 2025) EllapsedTime: 20.3 seconds RetCode: 0 Status: OK