Package: CNVPanelizer Version: 1.39.0 Command: rm -rf CNVPanelizer.buildbin-libdir && mkdir CNVPanelizer.buildbin-libdir && E:\biocbuild\bbs-3.21-bioc\R\bin\R.exe CMD INSTALL --build --library=CNVPanelizer.buildbin-libdir CNVPanelizer_1.39.0.tar.gz StartedAt: 2025-02-04 07:43:32 -0500 (Tue, 04 Feb 2025) EndedAt: 2025-02-04 07:44:29 -0500 (Tue, 04 Feb 2025) EllapsedTime: 57.1 seconds RetCode: 0 Status: OK PackageFile: CNVPanelizer_1.39.0.zip PackageFileSize: 474.5 KiB