Package: CNVRanger Version: 1.23.0 Command: /Library/Frameworks/R.framework/Resources/bin/R CMD INSTALL CNVRanger StartedAt: 2025-02-09 15:14:52 -0500 (Sun, 09 Feb 2025) EndedAt: 2025-02-09 15:15:24 -0500 (Sun, 09 Feb 2025) EllapsedTime: 31.3 seconds RetCode: 0 Status: OK