Package: CNVRanger Version: 1.23.0 Command: rm -rf CNVRanger.buildbin-libdir && mkdir CNVRanger.buildbin-libdir && E:\biocbuild\bbs-3.21-bioc\R\bin\R.exe CMD INSTALL --build --library=CNVRanger.buildbin-libdir CNVRanger_1.23.0.tar.gz StartedAt: 2025-02-10 07:29:49 -0500 (Mon, 10 Feb 2025) EndedAt: 2025-02-10 07:30:21 -0500 (Mon, 10 Feb 2025) EllapsedTime: 32.1 seconds RetCode: 0 Status: OK PackageFile: CNVRanger_1.23.0.zip PackageFileSize: 1.87 MiB