Package: CNVRanger Version: 1.23.0 Command: chmod a+r CNVRanger -R && E:\biocbuild\bbs-3.21-bioc\R\bin\R.exe CMD build --keep-empty-dirs --no-resave-data CNVRanger StartedAt: 2025-02-12 18:00:33 -0500 (Wed, 12 Feb 2025) EndedAt: 2025-02-12 18:05:32 -0500 (Wed, 12 Feb 2025) EllapsedTime: 298.8 seconds RetCode: 0 Status: OK PackageFile: CNVRanger_1.23.0.tar.gz PackageFileSize: 1.823 MiB