Package: CNViz Version: 1.15.0 Command: /Library/Frameworks/R.framework/Resources/bin/R CMD INSTALL CNViz StartedAt: 2025-02-04 15:16:57 -0500 (Tue, 04 Feb 2025) EndedAt: 2025-02-04 15:17:16 -0500 (Tue, 04 Feb 2025) EllapsedTime: 19.0 seconds RetCode: 0 Status: OK