Package: CNViz Version: 1.15.0 Command: /home/biocbuild/R/R/bin/R CMD build --keep-empty-dirs --no-resave-data CNViz StartedAt: 2025-01-28 21:59:37 -0000 (Tue, 28 Jan 2025) EndedAt: 2025-01-28 22:01:00 -0000 (Tue, 28 Jan 2025) EllapsedTime: 83.0 seconds RetCode: 0 Status: OK PackageFile: CNViz_1.15.0.tar.gz PackageFileSize: 116.2 KiB