Package: CNViz Version: 1.15.0 Command: /Library/Frameworks/R.framework/Resources/bin/R CMD check --install=check:CNViz.install-out.txt --library=/Library/Frameworks/R.framework/Resources/library --no-vignettes --timings CNViz_1.15.0.tar.gz StartedAt: 2025-02-09 19:51:30 -0500 (Sun, 09 Feb 2025) EndedAt: 2025-02-09 19:57:15 -0500 (Sun, 09 Feb 2025) EllapsedTime: 344.5 seconds RetCode: 0 Status: OK CheckDir: CNViz.Rcheck Warnings: 0