Package: CNViz Version: 1.15.0 Command: rm -rf CNViz.buildbin-libdir && mkdir CNViz.buildbin-libdir && E:\biocbuild\bbs-3.21-bioc\R\bin\R.exe CMD INSTALL --build --library=CNViz.buildbin-libdir CNViz_1.15.0.tar.gz StartedAt: 2025-02-10 07:29:34 -0500 (Mon, 10 Feb 2025) EndedAt: 2025-02-10 07:30:23 -0500 (Mon, 10 Feb 2025) EllapsedTime: 48.5 seconds RetCode: 0 Status: OK PackageFile: CNViz_1.15.0.zip PackageFileSize: 186 KiB