Package: CNViz Version: 1.15.0 Command: chmod a+r CNViz -R && E:\biocbuild\bbs-3.21-bioc\R\bin\R.exe CMD build --keep-empty-dirs --no-resave-data CNViz StartedAt: 2025-02-04 17:55:42 -0500 (Tue, 04 Feb 2025) EndedAt: 2025-02-04 17:57:06 -0500 (Tue, 04 Feb 2025) EllapsedTime: 83.6 seconds RetCode: 0 Status: OK PackageFile: CNViz_1.15.0.tar.gz PackageFileSize: 115.7 KiB