Package: CNVrd2 Version: 1.45.0 Command: /Library/Frameworks/R.framework/Resources/bin/R CMD build --keep-empty-dirs --no-resave-data CNVrd2 StartedAt: 2025-02-09 16:20:17 -0500 (Sun, 09 Feb 2025) EndedAt: 2025-02-09 16:21:49 -0500 (Sun, 09 Feb 2025) EllapsedTime: 91.6 seconds RetCode: 0 Status: OK PackageFile: CNVrd2_1.45.0.tar.gz PackageFileSize: 2.824 MiB