Package: CNVrd2 Version: 1.45.0 Command: /Library/Frameworks/R.framework/Resources/bin/R CMD check --install=check:CNVrd2.install-out.txt --library=/Library/Frameworks/R.framework/Resources/library --no-vignettes --timings CNVrd2_1.45.0.tar.gz StartedAt: 2025-02-09 19:52:05 -0500 (Sun, 09 Feb 2025) EndedAt: 2025-02-09 19:55:08 -0500 (Sun, 09 Feb 2025) EllapsedTime: 183.7 seconds RetCode: 0 Status: OK CheckDir: CNVrd2.Rcheck Warnings: 0