Package: CNVrd2 Version: 1.45.0 Command: /Library/Frameworks/R.framework/Resources/bin/R CMD INSTALL CNVrd2 StartedAt: 2025-02-09 15:21:38 -0500 (Sun, 09 Feb 2025) EndedAt: 2025-02-09 15:22:33 -0500 (Sun, 09 Feb 2025) EllapsedTime: 54.8 seconds RetCode: 0 Status: OK